BEGIN:VCALENDAR
VERSION:2.0
PRODID:-//eventon.com NONSGML v1.0//EN
CALSCALE:GREGORIAN
METHOD:PUBLISH
BEGIN:VEVENT
UID:69e9c3121f5bf
DTSTAMP:20260423T065826Z
DTSTART:20240517T220000Z
DTEND:20240518T035900Z
LOCATION:
SUMMARY:Concert on the Green: Calliope Brass
DESCRIPTION:New York City quintet Calliope Brass presents engaging\,  st
 ory-driven programming to audiences of all ages. Inspired by the eponymous 
 Greek muse of poetry and storytelling\,  Calliope is comprised of some of 
 New York’s most active brass performers.  Calliope will perform Popcor
 n and Playbills\,  a revue of music from the movies\,  Broadway\,  and oper
 a stage. Get ready[..]\nhttps://lagruacenter.org/events/concert-on-the-gree
 n-calliope-brass/
URL:https://lagruacenter.org/events/concert-on-the-green-calliope-brass/
END:VEVENT
END:VCALENDAR