BEGIN:VCALENDAR
VERSION:2.0
PRODID:-//eventon.com NONSGML v1.0//EN
CALSCALE:GREGORIAN
METHOD:PUBLISH
BEGIN:VEVENT
UID:69e9d9a29e98a
DTSTAMP:20260423T083442Z
DTSTART:20240628T220000Z
DTEND:20240629T035900Z
LOCATION:La Grua Center Commons Green 32 Water Street Stonington\,  CT 06378
SUMMARY:Concert on the Green: Cold Chocolate
DESCRIPTION:Cold Chocolate is a genre-bending Americana band that fuses fol
 k\,  funk\,  and bluegrass to create a unique sound all their own. Led by 
 Ethan Robbins (vocals/guitar/mandolin) and Ariel Bernstein  (vocals/perc
 ussion/banjo)\,  the Boston-based duo released their fifth full-length albu
 m in the fall of 2023. Punctuated by tight harmonies and skillful musicians
 hip\,  Cold Chocolate has[..]\nhttps://lagruacenter.org/events/concert-on-t
 he-green-cold-chocolate/
URL:https://lagruacenter.org/events/concert-on-the-green-cold-chocolate/
END:VEVENT
END:VCALENDAR