BEGIN:VCALENDAR
VERSION:2.0
PRODID:-//eventon.com NONSGML v1.0//EN
CALSCALE:GREGORIAN
METHOD:PUBLISH
BEGIN:VEVENT
UID:69e9db8fe8600
DTSTAMP:20260423T084255Z
DTSTART:20240719T220000Z
DTEND:20240720T035900Z
LOCATION:La Grua Center Commons Green 32 Water Street Stonington\,  CT 06378
SUMMARY:Concerts on the Green: Ed Fast & Conga Bop
DESCRIPTION:Ed Fast and Congabop Quintet features Afro-Cuban influenced rhy
 thms and hard-bop harmony fused to create unique\,  soulful originals and c
 reatively arranged jazz standards. The repertoire reflects a tribute to the
  genre&#8217;s most celebrated practitioners including Cal Tjader\,  Tito P
 uente\,  and Hilton Ruiz. This concert is FREE. Please read the information
 [..]\nhttps://lagruacenter.org/events/concerts-on-the-green-ed-fast-conga-b
 op-2/
URL:https://lagruacenter.org/events/concerts-on-the-green-ed-fast-conga-bop-2/
END:VEVENT
END:VCALENDAR