BEGIN:VCALENDAR
VERSION:2.0
PRODID:-//eventon.com NONSGML v1.0//EN
CALSCALE:GREGORIAN
METHOD:PUBLISH
BEGIN:VEVENT
UID:69e9d6281adc2
DTSTAMP:20260423T081952Z
DTSTART:20240816T220000Z
DTEND:20240817T035900Z
LOCATION:La Grua Center Commons Green 32 Water Street Stonington\,  CT 06378
SUMMARY:Concerts on the Green: Sing and Play with Bergin & Melissa
DESCRIPTION:Join Ms. Bergin\,  beloved local children’s musician\,  and h
 er amazing musical partner\,  Ms. Melissa for a family-friendly hour of mus
 ical fun.  Bergin O’Malley\,  a pop-folk singer-songwriter\,  first star
 ted writing children’s music with Melissa when she was pregnant with her 
 first child. They have written and released two children’s albums\,  Sing
 [..]\nhttps://lagruacenter.org/events/concerts-on-the-green-sing-and-play-w
 ith-ms-bergin-2/
URL:https://lagruacenter.org/events/concerts-on-the-green-sing-and-play-with-ms-bergin-2/
END:VEVENT
END:VCALENDAR