BEGIN:VCALENDAR
VERSION:2.0
PRODID:-//eventon.com NONSGML v1.0//EN
CALSCALE:GREGORIAN
METHOD:PUBLISH
BEGIN:VEVENT
UID:69eba5b09e4cd
DTSTAMP:20260424T171736Z
DTSTART:20250517T220000Z
DTEND:20250518T035900Z
LOCATION:
SUMMARY:Music Matters: Rasa String Quartet ~ Redefining Home
DESCRIPTION:**PLEASE NOTE SPECIAL TIME** Rasa String Quartet Emma Powell\, 
  Violin Maura Shawn Scanlin\,  Violin Kiyoshi Hayashi\,  Viola Mina Kim\,  
 Cello Brian Shankar Adler\,  Percussion Multidisciplinary percussionist Bri
 an Shankar Adler and the Rasa String Quartet present: Redefining Home\,  a 
 concert that celebrates each artists’ musical roots. Spanning from evocat
 ive Indian ragas[..]\nhttps://lagruacenter.org/events/music-matters-rasa-st
 ring-quartet-redefining-home/
URL:https://lagruacenter.org/events/music-matters-rasa-string-quartet-redefining-home/
END:VEVENT
END:VCALENDAR