BEGIN:VCALENDAR
VERSION:2.0
PRODID:-//eventon.com NONSGML v1.0//EN
CALSCALE:GREGORIAN
METHOD:PUBLISH
BEGIN:VEVENT
UID:69e9e42b78d4c
DTSTAMP:20260423T091939Z
DTSTART:20260415T220000Z
DTEND:20260416T035900Z
LOCATION:
SUMMARY:Elegant Sound Bath Experience with Marlisa McLaughlin
DESCRIPTION:** Please note the sound bath for April 15th has been moved to 
 April 25th. A unique sound bath experience every third Wednesday evening at
  6:00 pm monthly at La Grua Center! Cost is $40. For further details or to 
 register\,  contact Marlisa directly at 860.389.7343.\nhttps://lagruacenter
 .org/events/elegant-sound-bath-experience-with-marlisa-mclaughlin-3/var/ri-
 10.l-L1
URL:https://lagruacenter.org/events/elegant-sound-bath-experience-with-marlisa-mclaughlin-3/var/ri-10.l-L1
END:VEVENT
END:VCALENDAR