BEGIN:VCALENDAR
VERSION:2.0
PRODID:-//eventon.com NONSGML v1.0//EN
CALSCALE:GREGORIAN
METHOD:PUBLISH
BEGIN:VEVENT
UID:69e9f332d9cae
DTSTAMP:20260423T102346Z
DTSTART:20250523T220000Z
DTEND:20250523T230000Z
LOCATION:La Grua Center Commons Green 32 Water Street Stonington\,  CT 06378
SUMMARY:Concert on the Green: Jacob Jolliff & Grant Gordy
DESCRIPTION:Grant Gordy and Jacob Jolliff will play a captivating mix of 
 bluegrass\,  jazz\,  and other styles that showcase their formidable improv
 isational chops\,  as well as telepathic duo chemistry. They are both maste
 rs of their instruments\,  as well as singular and recognizable voices on t
 hose respective instruments. They bring those two voices together[..]\nhttp
 s://lagruacenter.org/events/concert-on-the-green-jacob-jolliff-grant-gordy/
URL:https://lagruacenter.org/events/concert-on-the-green-jacob-jolliff-grant-gordy/
END:VEVENT
END:VCALENDAR