BEGIN:VCALENDAR
VERSION:2.0
PRODID:-//eventon.com NONSGML v1.0//EN
CALSCALE:GREGORIAN
METHOD:PUBLISH
BEGIN:VEVENT
UID:69e9fb13acd0c
DTSTAMP:20260423T105723Z
DTSTART:20250919T220000Z
DTEND:20250919T230000Z
LOCATION:La Grua Center Commons Green 32 Water Street Stonington\,  CT 06378
SUMMARY:Concert on the Green: CT State Troubadour Kala Farnham
DESCRIPTION:Kala Farnham crafts folk songs with roots and wings\,  weaving 
 age-old truths into modern grooves. The 18th Connecticut State Troubadour a
 nd Rose Garden Performing Songwriter Contest winner invites listeners into 
 conversation with intimate\,  fireside-style performances. With soul-stirri
 ng vocals and mystical folk harp\,  piano\,  and guitar\,  she draws audien
 ces into a[..]\nhttps://lagruacenter.org/events/concert-on-the-green-ct-sta
 te-troubadour-kala-farnham/
URL:https://lagruacenter.org/events/concert-on-the-green-ct-state-troubadour-kala-farnham/
END:VEVENT
END:VCALENDAR