BEGIN:VCALENDAR
VERSION:2.0
PRODID:-//eventon.com NONSGML v1.0//EN
CALSCALE:GREGORIAN
METHOD:PUBLISH
BEGIN:VEVENT
UID:69e9de6c83a9e
DTSTAMP:20260423T085508Z
DTSTART:20250627T220000Z
DTEND:20250627T230000Z
LOCATION:La Grua Center Commons Green 32 Water Street Stonington\,  CT 06378
SUMMARY:Concert on the Green: Mozart for Munchkins ~ At the Movies!
DESCRIPTION:Get ready for an epic musical adventure as Mozart for Munchki
 ns brings the magic of the movies to life! MFM at the Movies is an intera
 ctive concert featuring iconic film scores and beloved soundtracks perfor
 med live by world-class musicians. From the majestic themes of John Willia
 ms (Star Wars\,  Harry Potter) to the nostalgic joy of The Sound of Music
 \, [..]\nhttps://lagruacenter.org/events/concert-on-the-green-mozart-for-mu
 nchkins-at-the-movies/
URL:https://lagruacenter.org/events/concert-on-the-green-mozart-for-munchkins-at-the-movies/
END:VEVENT
END:VCALENDAR