BEGIN:VCALENDAR
VERSION:2.0
PRODID:-//eventon.com NONSGML v1.0//EN
CALSCALE:GREGORIAN
METHOD:PUBLISH
BEGIN:VEVENT
UID:69eb936d71bd6
DTSTAMP:20260424T155941Z
DTSTART:20250607T210000Z
DTEND:20250608T035900Z
LOCATION:
SUMMARY:Music Matters: Mozart on His Own Piano ~ Artem Belogurov
DESCRIPTION:Artem Belogurov Viennese Classical piano after Joh. Andreas Ste
 in (1783)\,  copy by Gerard Tuinman\,  Utrecht\,  NL (2023) Mozart on his o
 wn Piano Sonata in F\,  K.280 Variations on Ah\,  vous dirai-je\,  Maman\,
   K. 265 Duport Variations in C\,  K.573 Fantasia in c\,  K.475 &amp; Son
 ata in c\,  K.457 Pianist Artem Belogurov&#8216;s sixth Music Matters[..]\
 nhttps://lagruacenter.org/events/music-matters-mozart-on-his-own-piano-arte
 m-belogurov/
URL:https://lagruacenter.org/events/music-matters-mozart-on-his-own-piano-artem-belogurov/
END:VEVENT
END:VCALENDAR