BEGIN:VCALENDAR
VERSION:2.0
PRODID:-//eventon.com NONSGML v1.0//EN
CALSCALE:GREGORIAN
METHOD:PUBLISH
BEGIN:VEVENT
UID:69ebabfcdc6e3
DTSTAMP:20260424T174428Z
DTSTART:20250726T210000Z
DTEND:20250727T035900Z
LOCATION:
SUMMARY:Music Matters: Exchanges~Bridges Beyond Boundaries\,  with Kevin Sherwin
DESCRIPTION:Music of Chopin\,  Bizet\,  Villa-Lobos\,  Sherwin\,  and other
 s Experience this captivating concert by Kevin Sherwin that explores the ri
 ch emotional landscapes and cultural contexts of iconic works of the classi
 cal tradition\,  alongside new musical discoveries and original composition
 s by Sherwin. As part of the performance\,  Sherwin offers descriptive insi
 ghts that[..]\nhttps://lagruacenter.org/events/music-matters-exchanges-brid
 ges-beyond-boundaries-with-kevin-sherwin/
URL:https://lagruacenter.org/events/music-matters-exchanges-bridges-beyond-boundaries-with-kevin-sherwin/
END:VEVENT
END:VCALENDAR