BEGIN:VCALENDAR
VERSION:2.0
PRODID:-//eventon.com NONSGML v1.0//EN
CALSCALE:GREGORIAN
METHOD:PUBLISH
BEGIN:VEVENT
UID:69e9fed2f3481
DTSTAMP:20260423T111322Z
DTSTART:20260514T130000Z
DTEND:20260514T143000Z
LOCATION:
SUMMARY:Beginner's Mind Yoga with Alice Despard
DESCRIPTION:Beginner’s Mind Yoga Classes in the La Grua Gallery Room foc
 us is on Iyengar-inspired postures\,  using props and including some Yin Yo
 ga postures to build strength\,  flexibility and awareness. All levels are 
 welcome; working on fundamentals is our core practice.  We provide all pro
 ps needed\,  so grab a yoga mat and[..]\nhttps://lagruacenter.org/events/be
 ginners-mind-yoga-with-alice-despard/var/ri-14.l-L1
URL:https://lagruacenter.org/events/beginners-mind-yoga-with-alice-despard/var/ri-14.l-L1
END:VEVENT
END:VCALENDAR