BEGIN:VCALENDAR
VERSION:2.0
PRODID:-//eventon.com NONSGML v1.0//EN
CALSCALE:GREGORIAN
METHOD:PUBLISH
BEGIN:VEVENT
UID:69e9ba4ae0f08
DTSTAMP:20260423T062058Z
DTSTART:20260425T200000Z
DTEND:20260426T035900Z
LOCATION:
SUMMARY:Elegant Sound Bath Experience with Marlisa McLaughlin--Special Event
DESCRIPTION:This is a by-donation event held in loving memory of Marlisa&#8
 217;s sister and all proceeds will go to La Grua Center. A unique sound bat
 h experience!  For further details or to register\,  contact Marlisa direc
 tly at 860.389.7343.\nhttps://lagruacenter.org/events/elegant-sound-bath-ex
 perience-with-marlisa-mclaughlin-5/
URL:https://lagruacenter.org/events/elegant-sound-bath-experience-with-marlisa-mclaughlin-5/
END:VEVENT
END:VCALENDAR