BEGIN:VCALENDAR
VERSION:2.0
PRODID:-//eventon.com NONSGML v1.0//EN
CALSCALE:GREGORIAN
METHOD:PUBLISH
BEGIN:VEVENT
UID:69e9f366daa5f
DTSTAMP:20260423T102438Z
DTSTART:20260624T220000Z
DTEND:20260624T220000Z
LOCATION:
SUMMARY:Art and Gardens: Nature\,  Design\,  and Society ~ Robert Baldwin
DESCRIPTION:An art-history talk on gardens and artworks from the late Middl
 e Ages through the Renaissance formal garden (Versailles) Connecticut Colle
 ge Professor Emeritus of Art History Robert Baldwin will show how designed 
 landscapes communicate values across time\,  looking at garden imagery in r
 eligious\,  aristocratic\,  and emerging middle-class contexts. Audience di
 scussion links[..]\nhttps://lagruacenter.org/events/art-and-gardens-nature-
 design-and-society-robert-baldwin/
URL:https://lagruacenter.org/events/art-and-gardens-nature-design-and-society-robert-baldwin/
END:VEVENT
END:VCALENDAR