BEGIN:VCALENDAR
VERSION:2.0
PRODID:-//eventon.com NONSGML v1.0//EN
CALSCALE:GREGORIAN
METHOD:PUBLISH
BEGIN:VEVENT
UID:69eccbb970f7f
DTSTAMP:20260425T141209Z
DTSTART:20260813T220000Z
DTEND:20260813T220000Z
LOCATION:
SUMMARY:Good Stories Well Told: Westerly Museum of American Impressionism\,  with Catherine Shotick
DESCRIPTION:Catherine Shotick\,  director of the Westerly Museum of America
 n Impressionism\,  will tell the story of how the museum came to be\,  disc
 uss highlights from the collection\,  and share plans for the years ahead. 
 Catherine is the inaugural director of the Westerly Museum of American Impr
 essionism. Joining the museum in May[..]\nhttps://lagruacenter.org/events/g
 ood-stories-well-told-westerly-museum-of-american-impressionism-with-cather
 ine-shotick/
URL:https://lagruacenter.org/events/good-stories-well-told-westerly-museum-of-american-impressionism-with-catherine-shotick/
END:VEVENT
END:VCALENDAR